BEGIN:VCALENDAR
VERSION:2.0
PRODID:-//wp-events-plugin.com//7.2.2.1//EN
TZID:Europe/Zurich
X-WR-TIMEZONE:Europe/Zurich
BEGIN:VEVENT
UID:10@ocarnotzet.ch
DTSTART;TZID=Europe/Zurich:20260704T120000
DTEND;TZID=Europe/Zurich:20260704T234500
DTSTAMP:20260209T182458Z
URL:https://ocarnotzet.ch/events/fete-estival-grillades/
SUMMARY:Fête estivale (grillades)
DESCRIPTION:Viens tscher tscher avec nous! Au programme: jeux\, bonne chèr
 e et bon vin.
ATTACH;FMTTYPE=image/jpeg:https://ocarnotzet.ch/wp-content/uploads/2025/10
 /frogs-8872345_1280.jpg
CATEGORIES:O'Carnotzet
LOCATION:Refuge de Renens\, Refuge de Renens\, Renens\, 1020\, Suisse
X-APPLE-STRUCTURED-LOCATION;VALUE=URI;X-ADDRESS=Refuge de Renens\, Renens\,
  1020\, Suisse;X-APPLE-RADIUS=100;X-TITLE=Refuge de Renens:geo:0,0
END:VEVENT
BEGIN:VTIMEZONE
TZID:Europe/Zurich
X-LIC-LOCATION:Europe/Zurich
BEGIN:DAYLIGHT
DTSTART:20260329T030000
TZOFFSETFROM:+0100
TZOFFSETTO:+0200
TZNAME:CEST
END:DAYLIGHT
END:VTIMEZONE
END:VCALENDAR